BEGIN:VCALENDAR
VERSION:2.0
PRODID:-//Eventin//Event Calendar//EN
CALSCALE:GREGORIAN
METHOD:PUBLISH
BEGIN:VEVENT
UID:9c4f60bcfafb1cf8affb72d977fd4a7a@www.ecommerceupdate.com.br
SUMMARY:Afiliados Brasil 2026
DESCRIPTION:O Afiliados Brasil\, principal e maior evento de Marketing de A
 filiados da América Latina\, anuncia oficialmente a sua edição de 2026. 
 O encontro já tem data e local marcados: ocorrerá nos dias 28\, 29 e 30 d
 e maio de 2026\, ocupando os 4º\, 5º e 6º andares do prestigiado Centro 
 de Convenções Frei Caneca\, na capital paulista.\nRealizado desde 2013\, 
 o evento consolidou-se como um verdadeiro divisor de águas no ecossistema 
 digital. Seu objetivo é reunir um público altamente qualificado para comp
 artilhar tendências\, fomentar estratégias de vendas e debater o futuro d
 a afiliação na internet.\nDurante os três dias de imersão\, o Afiliados
  Brasil funcionará como o ponto de encontro perfeito para a troca de exper
 iências entre afiliados\, empresas anunciantes\, agências de marketing di
 gital\, compradores e vendedores de tráfego\, além de profissionais diret
 a ou indiretamente ligados ao setor. O evento oferece uma oportunidade ímp
 ar de networking\, com estandes das maiores marcas do mercado e palestras c
 om especialistas que transformam negócios e vidas através do ambiente dig
 ital.\n"O Afiliados Brasil não é apenas um congresso\, é um ambiente ond
 e parcerias nascem e negócios escalam de forma exponencial"\, destaca a or
 ganização. Além de palestras com os grandes nomes do setor\, o espaço d
 e exposição fomenta a conexão direta entre plataformas\, produtores e af
 iliados.\nA edição também conta com a Afiliados Magazine\, única revist
 a especializada em Marketing de Afiliados em língua portuguesa\, que ofere
 ce conteúdo aprofundado e direcionado aos participantes.\nOs ingressos par
 a a edição de 2026\, bem como as cotas promocionais para novos patrocinad
 ores e expositores\, já estão disponíveis através do site oficial do ev
 ento.\nSERVIÇO:\n\n\nEvento: Afiliados Brasil 2026\n\n\nDatas: 28\, 29 e 3
 0 de maio de 2026\n\n\nLocal: Centro de Convenções Frei Caneca (Rua Frei 
 Caneca\, 569 - 4º\, 5º e 6º andar - Consolação - São Paulo / SP)\n\n\
 nMais informações e ingressos: https://afiliadosbrasil.com.br/
LOCATION:Centro de Convenções Frei Caneca (Rua Frei Caneca\, 569 - 4º\, 
 5º e 6º andar - Consolação - São Paulo / SP
DTSTAMP:20260420T143959Z
DTSTART:20260528T110000Z
DTEND:20260530T210000Z
END:VEVENT
END:VCALENDAR
