BEGIN:VCALENDAR
VERSION:2.0
PRODID:-//Eventin//Event Calendar//EN
CALSCALE:GREGORIAN
METHOD:PUBLISH
BEGIN:VEVENT
UID:1e0bdc21892b45b8b6e96e92c2f797bf@www.ecommerceupdate.com.br
SUMMARY:VTEX Day 2026
DESCRIPTION:Consolidado como o maior e mais importante evento de digital co
 mmerce do mundo\, o VTEX DAY anuncia as datas de sua edição de 2026. No
 s dias 16 e 17 de abril\, o São Paulo Expo será o grande palco de imer
 são nas tendências e tecnologias que estão moldando o presente e o futur
 o do digital\, do varejo e do consumo.\nSob o tema “Digital Commerce For
  Real”\, o VTEX DAY 2026 foca no comércio digital tangível e focado em 
 resultados reais. O evento espera reunir mais de 25 mil visitantes de 25
  países diferentes\, conectando líderes\, inovadores e profissionais de 
 todo o ecossistema. Com mais de 8 mil marcas únicas representadas\, o enc
 ontro é o espaço definitivo para negócios\, networking e conhecimento pr
 ático.\nUma verdadeira imersão com os maiores líderes do mercado Ao lon
 go de dois dias intensos de programação\, o evento contará com mais de 
 350 palestrantes de peso\, trazendo experiências\, estratégias e visões
  que direcionam os maiores players do mercado global e nacional.\nEntre os 
 líderes e inovadores de destaque já confirmados no line-up estão:\n\n\nF
 rederico Trajano – CEO do Magazine Luiza\n\n\nFabio Coelho – Presiden
 te do Google Brasil e VP da Google Inc.\n\n\nFernando Modé – CEO do Gru
 po Boticário\n\n\nPedro Zannoni – CEO LATAM da Lacoste\n\n\nSergio Zime
 rman – CEO da Petz e “Shark” no programa Shark Tank Brasil\n\n\nDieg
 o Puerta – CEO Brasil da Dell Technologies\n\n\nCedric Burel – CEO da
  Decathlon Brasil\n\n\nIsa Domingues – Influenciadora focada em Fashion\
 , Beauty e Lifestyle\n\n\nSobre o VTEX DAY Criado e organizado pela VTEX\,
  o VTEX DAY se tornou muito mais do que um evento\; é o centro gravitacion
 al do e-commerce global na América Latina. É o momento em que a comunidad
 e de comércio digital\, incluindo lojistas\, plataformas\, meios de pagame
 nto\, logística\, marketing e inovação\, se encontra para ditar as regra
 s do mercado\, fechar parcerias transformadoras e aprender com cases de suc
 esso absolutos.\nOs ingressos\, bem como oportunidades para patrocinadores 
 e parceiros\, já estão disponíveis no site oficial do evento.\nSERVIÇO:
 \nO que: VTEX DAY 2026 – Digital Commerce For Real\nQuando: 16 e 17 de
  Abril de 2026\nOnde: São Paulo Expo – Rodovia dos Imigrantes\, km 1\,5
  – Vila Água Funda\, São Paulo/SP\nIngressos e mais informações: vte
 xday.vtex.com
LOCATION:São Paulo
DTSTAMP:20260421T021048Z
DTSTART:20260416T110000Z
DTEND:20260417T210000Z
END:VEVENT
END:VCALENDAR
